BEGIN:VCALENDAR
VERSION:2.0
PRODID:icalendar-ruby
CALSCALE:GREGORIAN
METHOD:PUBLISH
BEGIN:VEVENT
DTSTAMP:20260423T202635Z
UID:2-1242388@larocadelcalvario.org
DTSTART:20260906T190000Z
DTEND:20260906T203000Z
CLASS:PUBLIC
CREATED:20260423T123657
DESCRIPTION:Vengan y adoremos al Senor!
LAST-MODIFIED:20260423T123657
LOCATION:La Roca del Calvario
SUMMARY:Servicio Dominical
URL;VALUE=URI:https://www.larocadelcalvario.org/events/servicio-dominical/2
 026-09-06
ATTACH;FILENAME=brooke-lark-93583-unsplash.jpg;FMTTYPE=image/jpeg:https://d
 q5pwpg1q8ru0.cloudfront.net/2020/05/11/10/47/55/6eb97fa6-2db6-40e2-abf2-31
 905d3fa5d5/brooke-lark-93583-unsplash.jpg
END:VEVENT
END:VCALENDAR
