BEGIN:VCALENDAR
VERSION:2.0
PRODID:icalendar-ruby
CALSCALE:GREGORIAN
METHOD:PUBLISH
BEGIN:VEVENT
DTSTAMP:20260422T010422Z
UID:1-1235294@larocadelcalvario.org
DTSTART:20261002T010000Z
DTEND:20261002T030000Z
CLASS:PUBLIC
CREATED:20260421T165314
DESCRIPTION:Estaremos estudiando La Biblia a traves de lecciones preparadas
 .\n 
LAST-MODIFIED:20260421T165314
LOCATION:La Roca del Calvario
SUMMARY:Estudios Biblicos
URL;VALUE=URI:https://www.larocadelcalvario.org/events/estudios-biblicos/20
 26-10-01
ATTACH;FILENAME=priscilla-du-preez-234138-unsplash.jpg;FMTTYPE=image/jpeg:h
 ttps://dq5pwpg1q8ru0.cloudfront.net/2020/05/11/10/47/55/5e6dfc78-d002-447b
 -aedc-c55f3072ed06/priscilla-du-preez-234138-unsplash.jpg
END:VEVENT
END:VCALENDAR
